BEGIN:VCALENDAR
VERSION:2.0
PRODID:-//Miedema Auctioneering &amp; Appraisals, Inc. - ECPv6.0.5//NONSGML v1.0//EN
CALSCALE:GREGORIAN
METHOD:PUBLISH
X-ORIGINAL-URL:https://www.miedemaauctioneering.com
X-WR-CALDESC:Events for Miedema Auctioneering &amp; Appraisals, Inc.
REFRESH-INTERVAL;VALUE=DURATION:PT1H
X-Robots-Tag:noindex
X-PUBLISHED-TTL:PT1H
BEGIN:VTIMEZONE
TZID:America/Detroit
BEGIN:DAYLIGHT
TZOFFSETFROM:-0500
TZOFFSETTO:-0400
TZNAME:EDT
DTSTART:20190310T070000
END:DAYLIGHT
BEGIN:STANDARD
TZOFFSETFROM:-0400
TZOFFSETTO:-0500
TZNAME:EST
DTSTART:20191103T060000
END:STANDARD
END:VTIMEZONE
BEGIN:VEVENT
DTSTART;TZID=America/Detroit:20190613T080000
DTEND;TZID=America/Detroit:20190613T233000
DTSTAMP:20260419T225517
CREATED:20190517T163720Z
LAST-MODIFIED:20200122T182657Z
UID:10000248-1560412800-1560468600@www.miedemaauctioneering.com
SUMMARY:Amstore (sale in partnership with Hilco\, Ind. and Hilco Fixture Finders)
DESCRIPTION:Description:\nAmstore is a nationally recognized family-owned retail display manufacturer that has been in business for more than 100 years.  They produce high-quality retail displays for leading retailers such as Target\, Kohls\, and Walgreens. This auction is a great opportunity for woodworking professionals to acquire woodworking and metal fabrication machinery and equipment\, as well as a large quantity of raw materials and hardware\, but also for small retailers to gain access to a wide variety of already finished retail displays at a fraction of the cost. \nWoodworking\n\nHolzma Optimat HPL400/38/16 Automatic Panel Saw (2017)\nWeeke Vantech 510 CNC Router (2013)\nWeeke Venture 107M CNC Machining Center (2013)\nWeeke Venture 3 BHC CNC Machining Center (2007)\nHolz-Her Sprint 1310-1 Edgebander (2012)\nHomag KAL310/8/A20/S2 Edgebander (2004)\nBrandt KTD 720 Contour Edgebander (2014)\nStar V Machinery SLG-2LB V-Grooving Machine (2016)\nAltendorf F-45 Elmo Table Saw (2005)\nMac Process 144-MCF-494 & 120-MCF-494 Dust Collection Systems\nCresswood HF-40-40ST Scrap Wood Grinding System (2009)\n\nMetal Fabrication\n\nCincinnati 135PF+10\, 135-Ton x 12’ 5-Axis CNC Press Brake (2015)\nAccurshear 10’ x ¼” Shear (2007)\nAccurpress 100-Ton x 8’ Press Brake\nAmada LC-2415 2000-Watt CNC Laser\nBoschert 9” x 9” x ¼” Notcher\nBridgeport CNC Vertical Mill\n(4) Thomas/Dake 350 Super Tech Semi-Automatic Cold Saw (2013)\n(4) Tiger Stop Gauging Systems 12′ & 16′ (2014)\nMiller Welders\n(5) Siegmund Welding Tables\n\nRaw Materials & Hardware\n \nFlatstock \n\n5\,500+ total sheets ranging from 4×8\, 5×8\, 4×10\, 5×10\, 4×12 and 5×12 with the majority being 5×10\n\nRaw MDF (500+ sheets) 150 are ¾” nominal\nRaw PB (400+ sheets) 75 are 3/4” nominal\nMelamine (3\,000+ sheets)\n\n300+ of Wilsonart 1595-60 black\n400+ of Wilsonart 1573-60 white\n400+ of Wilsonart D354-60 white\n300+ of Wilsonart 7949K\n\n\nMisc HPL and Vinyl Slabs (1\,500+ sheets)\n\n\n\nPVC Banding \n\nOver 1.2 Million linear feet of banding\n\nOver 80K lf in Wilsonart 1573-60 white\nOver 40K lf in Wilsonart 1595-60 black\n\n\n\nAluminum Extrusions \n\nOver 10\,000 sticks ranging from 6’ to 12’ in length\n\n(1\,400 linear feet) .38”x.43” c-channel\n(1\,400 linear feet) angle (.75”x.75”\, 1”x1” and .25”x.8”)\n(3\,000+ linear feet) Stylmark related tracks\, door moldings etc.\n\n\n\nLEDs \n\nOver 3\,000 LED ribbon assemblies or linear rigid sticks\n\n160” ribbon assembly @ 5500 Kelvin (over 1750)\n43” rigid LED in aluminum extrusion @ 3500 Kelvin (over 600)\n\n\n\nFinished Inventory – Retail Displays\nLearn more about the finished inventory that is available \n \n\nENTER AUCTION\nRegister to Bid Online\nAuction Brochure\n\nAll written material is subject to change. Announcements made day of sale take precedence over printed material.
URL:https://www.miedemaauctioneering.com/auction-calendar/amstore-sale-in-partnership-with-hilco-ind-and-hilco-fixture-finders/
LOCATION:AMSTORE\, 3951 Trade Dr\, Grand Rapids\, MI\, 49508\, United States
CATEGORIES:Live and Online Webcast Auction
ATTACH;FMTTYPE=image/jpeg:https://miedemaauctioneering.s3.amazonaws.com/wp-content/uploads/2019/05/17115718/AMSTORE.jpg
ORGANIZER;CN="Chuck%20Ranney%20-%20Auction%20Manager":MAILTO:chuck@1800lastbid.com
GEO:42.8902658;-85.6370073
X-APPLE-STRUCTURED-LOCATION;VALUE=URI;X-ADDRESS=AMSTORE 3951 Trade Dr Grand Rapids MI 49508 United States;X-APPLE-RADIUS=500;X-TITLE=3951 Trade Dr:geo:-85.6370073,42.8902658
END:VEVENT
BEGIN:VEVENT
DTSTART;TZID=America/Detroit:20190226T100000
DTEND;TZID=America/Detroit:20190226T233000
DTSTAMP:20260419T225517
CREATED:20190208T212559Z
LAST-MODIFIED:20200122T182233Z
UID:10000449-1551175200-1551223800@www.miedemaauctioneering.com
SUMMARY:A & B Machining INC. - Tooling and Support Equipment ONLINE AUCTION
DESCRIPTION:Description:\nThe Westshore Innovative Network (WIN) offers a variety of metalworking services including CNC machining of complex\, tight tolerance components; metal cutting\, fabrication and welding of sheet metal and plate steel; part certification through an ISO/IEC 17025 accredited metrology lab; as well as assembly and painting operations. This sale will feature tooling and support equipment from this facility.\n\nENTER AUCTION\nRegister to Bid Online
URL:https://www.miedemaauctioneering.com/auction-calendar/a-b-machining-inc-tooling-and-support-equipment-online-auction/
LOCATION:A & B Machining INC.\, 355 North Griffin St.\, Grand Haven\, MI\, 49417\, United States
CATEGORIES:Online Only Auction
ATTACH;FMTTYPE=image/png:https://miedemaauctioneering.s3.amazonaws.com/wp-content/uploads/2019/02/08162013/e8bbf9ea-e461-11e8-b84b-0a223cebcaea.png
ORGANIZER;CN="Chuck%20Ranney%20-%20Auction%20Manager":MAILTO:chuck@1800lastbid.com
GEO:43.0643288;-86.211011
X-APPLE-STRUCTURED-LOCATION;VALUE=URI;X-ADDRESS=A & B Machining INC. 355 North Griffin St. Grand Haven MI 49417 United States;X-APPLE-RADIUS=500;X-TITLE=355 North Griffin St.:geo:-86.211011,43.0643288
END:VEVENT
END:VCALENDAR