BEGIN:VCALENDAR
VERSION:2.0
PRODID:-//Miedema Auctioneering &amp; Appraisals, Inc. - ECPv6.0.5//NONSGML v1.0//EN
CALSCALE:GREGORIAN
METHOD:PUBLISH
X-WR-CALNAME:Miedema Auctioneering &amp; Appraisals, Inc.
X-ORIGINAL-URL:https://www.miedemaauctioneering.com
X-WR-CALDESC:Events for Miedema Auctioneering &amp; Appraisals, Inc.
REFRESH-INTERVAL;VALUE=DURATION:PT1H
X-Robots-Tag:noindex
X-PUBLISHED-TTL:PT1H
BEGIN:VTIMEZONE
TZID:America/Detroit
BEGIN:DAYLIGHT
TZOFFSETFROM:-0500
TZOFFSETTO:-0400
TZNAME:EDT
DTSTART:20180311T070000
END:DAYLIGHT
BEGIN:STANDARD
TZOFFSETFROM:-0400
TZOFFSETTO:-0500
TZNAME:EST
DTSTART:20181104T060000
END:STANDARD
BEGIN:DAYLIGHT
TZOFFSETFROM:-0500
TZOFFSETTO:-0400
TZNAME:EDT
DTSTART:20190310T070000
END:DAYLIGHT
BEGIN:STANDARD
TZOFFSETFROM:-0400
TZOFFSETTO:-0500
TZNAME:EST
DTSTART:20191103T060000
END:STANDARD
BEGIN:DAYLIGHT
TZOFFSETFROM:-0500
TZOFFSETTO:-0400
TZNAME:EDT
DTSTART:20200308T070000
END:DAYLIGHT
BEGIN:STANDARD
TZOFFSETFROM:-0400
TZOFFSETTO:-0500
TZNAME:EST
DTSTART:20201101T060000
END:STANDARD
BEGIN:DAYLIGHT
TZOFFSETFROM:-0500
TZOFFSETTO:-0400
TZNAME:EDT
DTSTART:20210314T070000
END:DAYLIGHT
BEGIN:STANDARD
TZOFFSETFROM:-0400
TZOFFSETTO:-0500
TZNAME:EST
DTSTART:20211107T060000
END:STANDARD
END:VTIMEZONE
BEGIN:VEVENT
DTSTART;VALUE=DATE:20210916
DTEND;VALUE=DATE:20211004
DTSTAMP:20260419T150247
CREATED:20210513T190736Z
LAST-MODIFIED:20210514T172849Z
UID:10000573-1631750400-1633305599@www.miedemaauctioneering.com
SUMMARY:ArtPrize 2021 – Find Art You Love & Support Artists!
DESCRIPTION:
URL:https://www.miedemaauctioneering.com/auction-calendar/artprize-2021-find-art-you-love-support-artists-2/2021-09-16/
LOCATION:Beaver Creek Dairy LLC &  Martin Dairy LLC\, 18080 80th Ave.\, Coopersville\, MI\, 49404\, United States
CATEGORIES:Online Only Auction
ATTACH;FMTTYPE=image/jpeg:https://miedemaauctioneering.s3.amazonaws.com/wp-content/uploads/2021/05/07140417/backend_badge.jpg
ORGANIZER;CN="Austin%20Miedema":MAILTO:austin@1800lastbid.com
GEO:43.0672767;-85.567631
X-APPLE-STRUCTURED-LOCATION;VALUE=URI;X-ADDRESS=Beaver Creek Dairy LLC &  Martin Dairy LLC 18080 80th Ave. Coopersville MI 49404 United States;X-APPLE-RADIUS=500;X-TITLE=18080 80th Ave.:geo:-85.567631,43.0672767
END:VEVENT
BEGIN:VEVENT
DTSTART;TZID=America/Detroit:20190308T170000
DTEND;TZID=America/Detroit:20190308T233000
DTSTAMP:20260419T150247
CREATED:20190104T181800Z
LAST-MODIFIED:20200210T210811Z
UID:10000241-1552064400-1552087800@www.miedemaauctioneering.com
SUMMARY:Logansport Fertilizer Terminal Sealed Bid Sale
DESCRIPTION:Description:\nFor sale by Sealed bid – Logansport Fertilizer Terminal  \n\nProperty Type: A dry and liquid fertilizer terminal located on long term leased land with access to Winamac Southern Railway.\nLocation: 2137 Stoney Pike Logansport\, IN 46947\nReason for Selling: For sale via Secured Creditors desiring to sell Leasehold Estate on Leased land with Merchantable Title to all fixed assets\, machinery and equipment. Property underwent significant site improvements in 2014\, but the facility never came into production.\nProperty Rights: A Leasehold Estate on leased land with Merchantable Title to all fixed assets\, machinery and equipment.\nReal Estate: Assets are situated on a 10-acre tract of land located at Logansport\, Indiana. The land is a long-term lease with the Winamac Southern Railway Company. The lease started on July 25\,2013 with a minimum annual lease of $5\,000. The lessee can earn back a rebate of $30 per inbound car of freight to a minimum of $1 per year rent. For any shortfall of less than 200 inbound cars ($6\,000) The lessee is responsible for the difference. Initial term is 15 years with a 15-year extension. See Appraisals supplementary data section of the full lease details.\nSite: 10.0 acres\, more or less\, of leased land. Additional 7.0 acres on highway frontage including commercial office and warehouse consisting of two (2) fee simple parcels are negotiable in the purchase or lease arrangement.\nZoning: AB – Agriculture Business\nImprovement: The fertilizer terminal with an estimated storage capacity of 24\,000 tons of dry storage capacity and 5\,500 tons of fluid storage capacity\, with 10 car siding.\nItems for sale:\n\nDry Bulk Fertilizer Storage Terminal\, 24\,000-Ton Capacity\nLiquid Bulk Fertilizer Storage\, 5\,500-Ton Capacity\nRail Siding – Capable of unloading 10 rail cars without a switch from the railroad.\nTruck Scale\, 11’ by 80’ Concrete Deck\n\n\nDate: sealed bid deadline is Friday\, March 8\, 2019.\n\n\nENTER AUCTION\nAuction Photos:
URL:https://www.miedemaauctioneering.com/auction-calendar/logansport-fertilizer-terminal-sale/
LOCATION:Logansport Fertilizer Terminal\, 2137 Stoney Pike\, Logansport\, IN\, 46947\, United States
CATEGORIES:Sealed Bid Auction
ATTACH;FMTTYPE=image/jpeg:https://miedemaauctioneering.s3.amazonaws.com/wp-content/uploads/2019/01/16171250/Logans1.jpg
ORGANIZER;CN="Austin%20Miedema":MAILTO:austin@1800lastbid.com
GEO:40.7365599;-86.331079
X-APPLE-STRUCTURED-LOCATION;VALUE=URI;X-ADDRESS=Logansport Fertilizer Terminal 2137 Stoney Pike Logansport IN 46947 United States;X-APPLE-RADIUS=500;X-TITLE=2137 Stoney Pike:geo:-86.331079,40.7365599
END:VEVENT
BEGIN:VEVENT
DTSTART;TZID=America/Detroit:20181103T100000
DTEND;TZID=America/Detroit:20181103T200000
DTSTAMP:20260419T150248
CREATED:20181004T135931Z
LAST-MODIFIED:20200207T205117Z
UID:10000436-1541239200-1541275200@www.miedemaauctioneering.com
SUMMARY:Estate of Harold Sutter - Firearms Live Auction! SATURDAY 11/3/2018
DESCRIPTION:Description:\nThis will be a LIVE AUCTION EVENT held on site at our Byron Center Facility (601 Gordon Industrial Court SW\, Byron Center\, MI 49315).\nOnline bidding will also be available through Proxibid.The auction features hundreds of high end\, rare\, and collectible firearms (most of which are unfired). Including: Commemorative Colt revolvers\, Winchester lever action Rifles\, special edition Rugers\, Remington & Ithaca shotguns\, a German Luger Pistol\, and many other rare / hard to find pieces. \nPre-registration on the day of auction will be required. Please plan to arrive early enough to complete the online registration process. \nFor more information about this auction please call / text Austin at 616-446-3410 or by email at austin@1800lastbid.com \n\n\nENTER AUCTION\nPre-Register to Bid Onsite
URL:https://www.miedemaauctioneering.com/auction-calendar/estate-of-harold-sutter-firearms-live-auction-saturday-11-3-2018/
LOCATION:SSLFirearms.com – LIVE AUCTION\, 601 Gordon Industrial Ct\, Byron Center\, MI\, 49315\, United States
CATEGORIES:Live and Online Webcast Auction
ATTACH;FMTTYPE=image/jpeg:https://miedemaauctioneering.s3.amazonaws.com/wp-content/uploads/2018/10/04095806/estateofharoldsutter.jpg
ORGANIZER;CN="Austin%20Miedema":MAILTO:austin@1800lastbid.com
GEO:42.8241094;-85.6792027
X-APPLE-STRUCTURED-LOCATION;VALUE=URI;X-ADDRESS=SSLFirearms.com – LIVE AUCTION 601 Gordon Industrial Ct Byron Center MI 49315 United States;X-APPLE-RADIUS=500;X-TITLE=601 Gordon Industrial Ct:geo:-85.6792027,42.8241094
END:VEVENT
END:VCALENDAR