BEGIN:VCALENDAR
VERSION:2.0
PRODID:-//Miedema Auctioneering &amp; Appraisals, Inc. - ECPv6.0.5//NONSGML v1.0//EN
CALSCALE:GREGORIAN
METHOD:PUBLISH
X-ORIGINAL-URL:https://www.miedemaauctioneering.com
X-WR-CALDESC:Events for Miedema Auctioneering &amp; Appraisals, Inc.
REFRESH-INTERVAL;VALUE=DURATION:PT1H
X-Robots-Tag:noindex
X-PUBLISHED-TTL:PT1H
BEGIN:VTIMEZONE
TZID:America/Detroit
BEGIN:DAYLIGHT
TZOFFSETFROM:-0500
TZOFFSETTO:-0400
TZNAME:EDT
DTSTART:20250309T070000
END:DAYLIGHT
BEGIN:STANDARD
TZOFFSETFROM:-0400
TZOFFSETTO:-0500
TZNAME:EST
DTSTART:20251102T060000
END:STANDARD
END:VTIMEZONE
BEGIN:VEVENT
DTSTART;TZID=America/Detroit:20251206T100000
DTEND;TZID=America/Detroit:20251206T170000
DTSTAMP:20260419T231313
CREATED:20251009T144245Z
LAST-MODIFIED:20251205T213844Z
UID:10009148-1765015200-1765040400@www.miedemaauctioneering.com
SUMMARY:Fall Hudsonville Fairgrounds Auction 2025
DESCRIPTION:Hop Head Farms has officially discontinued operations and will be liquidating all equipment through Miedema Auctioneering. This is a rare opportunity to purchase well maintained agricultural and hop production equipment at auction.Live Auction (with Online Bidding Available) Wednesday\, April 29 Start Time: 10:00 AMAuction HighlightsA wide range of equipment will be offered\, including:• Tractors• Field Equipment• Trucks & Trailers• Harvesting Equipment• Processing Equipment• Sprayers• Support Equipment• …and much more 								\n				\n					\n		\n				\n			\n						\n				\n									\n					\n						\n						\n							\n									Enter Auction\n					\n					\n				\n								\n				\n				\n				\n									\n					\n						\n									Auction Brochure\n					\n					\n				\n								\n				\n				\n				\n									\n					\n						\n									Terms & Conditions\n					\n					\n				\n								\n				\n					\n		\n					\n		\n				\n						\n					\n			\n						\n				\n							\n			\n			\n				\n			\n			\n				\n			\n			\n				\n			\n			\n				\n			\n			\n				\n			\n			\n				\n			\n			\n				\n			\n			\n				\n			\n			\n				\n			\n			\n				\n			\n			\n				\n			\n			\n				\n			\n			\n				\n			\n			\n				\n			\n			\n				\n			\n			\n				\n			\n			\n				\n			\n			\n				\n			\n			\n				\n			\n			\n				\n			\n			\n				\n			\n			\n				\n			\n			\n				\n			\n			\n				\n			\n			\n				\n			\n			\n				\n			\n			\n				\n			\n			\n				\n			\n			\n				\n			\n			\n				\n			\n			\n				\n			\n			\n				\n			\n			\n				\n			\n			\n				\n			\n			\n				\n			\n			\n				\n			\n			\n				\n			\n			\n				\n			\n			\n				\n			\n			\n				\n			\n			\n				\n			\n			\n				\n			\n			\n				\n			\n			\n				\n			\n			\n				\n			\n			\n				\n			\n			\n				\n			\n			\n				\n			\n			\n				\n			\n			\n				\n			\n			\n				\n			\n			\n				\n			\n			\n				\n			\n			\n				\n			\n			\n				\n			\n			\n				\n			\n			\n				\n			\n			\n				\n			\n			\n				\n			\n			\n				\n			\n			\n				\n			\n			\n				\n			\n			\n				\n			\n			\n				\n			\n			\n				\n			\n			\n				\n			\n			\n				\n			\n			\n				\n			\n			\n				\n			\n			\n				\n			\n			\n				\n			\n			\n				\n			\n			\n				\n			\n			\n				\n			\n			\n				\n			\n			\n				\n			\n			\n				\n			\n			\n				\n			\n			\n				\n			\n			\n				\n			\n			\n				\n			\n			\n				\n			\n			\n				\n			\n			\n				\n			\n			\n				\n			\n			\n				\n			\n			\n				\n			\n			\n				\n			\n			\n				\n			\n			\n				\n			\n			\n				\n			\n			\n				\n			\n			\n				\n			\n			\n				\n			\n			\n				\n			\n			\n				\n			\n			\n				\n			\n			\n				\n			\n			\n				\n			\n			\n				\n			\n			\n				\n			\n			\n				\n			\n			\n				\n			\n			\n				\n			\n			\n				\n			\n			\n				\n			\n			\n				\n			\n			\n				\n			\n			\n				\n			\n			\n				\n			\n		\n		\n						\n				\n				\n				\n									TERMS & CONDITIONSInspection: Tuesday April 28 from 10am-4pmWednesday April 29 Auction Day starting at 8amRemoval Times/Failure To Remove: Auction day April 29 until 5pmThursday April 30 9am-5pmFriday May 1 9am-4pmLoading: Forklift available by appointmentNO Loading Dock availableSales Tax: No sales tax will be charged except on titled/over the road items. All purchases of titled vehicles will be charged a 6% Michigan State Sales Tax. For exemption from sales tax\, you will be required to fill out a tax exemption form with a valid dealer’s resale #. [NO EXEMPTIONS] Michigan buyers can Download the form hereBuyers of Titled Vehicles:Michigan Resident buyers: $125.00 Broker Title Processing Fee (plus Michigan state sales tax) will be charged for all titled items which we are required to broker.$15.00 fee for State of Michigan title transfer will be charged.Optional: Plate & Registration Fee. At your request\, we can apply for your plates and registration on your behalf. If you wish to have us do so\, you MUST provide us with proof of insurance for the purchased titled item before you can remove it from the auction site. If not\, you must be prepared to tow or trailer your titled item. Fees are based on a calculation of new vehicle class and previous vehicle registration fees (required by State of Michigan). The applicable fees will be added to your invoice.Optional: $1.00 Lien Fee. If there is a lien holder on the item purchased a $1.00 fee is assessed by the State of Michigan and will be added to your invoice.Please note that buyers will need to sign the appropriate paperwork required by the state for title transfers. Title processing may take up to 10 business days. Then will take 4-10 business days to receive your title from the Secretary of StateNon-Michigan Residents buyers: $125.00 Broker Title Processing FeeState of Michigan requires we collect 6% sales tax and transfer the title as an “In-Transit” through the Michigan Secretary of State before the title is issued to the buyer UNLESS a Bill of Lading is provided showing Export out of Country\, then sales tax may be waived.All out of country buyers must contact our title department to start the paperwork before the item can go across the border. We will need to obtain the appropriate documents and signatures to transfer the title; this could take 1 to 3 weeks. We recommend purchases of titled item made with the intent of taking the titled item out of the country contact the title dept. as soon as a winning bid is accepted. Contact is Charlyn Reitsma at 616-261-4972 or charlyn@1800lastbid.comTerms: All items sell “AS IS\, WHERE IS” with no warranty. There shall be no guarantees or warranties\, expressed or implied\, statutory or otherwise as to the merchantability or fitness for any particular purpose of any goods offered in this sale.Buyer’s Premium: Onsite bidders: 0% if paid by cash\, check\, or wire transfer (see check payment restrictions); 3% if paid by credit cardOnline bidders: 3% if paid by cash\, check\, or wire transfer (see check payment restrictions); 6% if paid by credit cardPayments are expected on the day of Auction. [Online bidders have 3 days to pay for item in full] CashCashier’s checkWire Transfer*Personal & Business checks will be accepted at auction company discretion. Checks will not be accepted from buyers who reside outside of Michigan or drawn on a bank outside of Michigan. Buyers from outside of Michigan are required to pay by wire transfer or cash*Credit Card for total purchase of $2\,000 maximum or less\, with 3% buyer’s premium added.All written material is subject to change. Announcements made day of sale take precedence over printed material.
URL:https://www.miedemaauctioneering.com/auction-calendar/fall-hudsonville-fairgrounds-auction-2025/
LOCATION:Hudsonville Fairgrounds – 5235 40th Ave\, Hudsonville\, MI 49423\, 5235 40th Ave\, Hudsonville\, MI\, 49426\, United States
CATEGORIES:Live and Online Webcast Auction
ATTACH;FMTTYPE=image/jpeg:https://miedemaauctioneering.s3.amazonaws.com/wp-content/uploads/2025/10/09101712/DJI_0223-scaled.jpg
ORGANIZER;CN="Chuck%20Ranney%20-%20Auction%20Manager":MAILTO:chuck@1800lastbid.com
GEO:42.864918;-85.880852
X-APPLE-STRUCTURED-LOCATION;VALUE=URI;X-ADDRESS=Hudsonville Fairgrounds – 5235 40th Ave Hudsonville MI 49423 5235 40th Ave Hudsonville MI 49426 United States;X-APPLE-RADIUS=500;X-TITLE=5235 40th Ave:geo:-85.880852,42.864918
END:VEVENT
BEGIN:VEVENT
DTSTART;TZID=America/Detroit:20251218T100000
DTEND;TZID=America/Detroit:20251218T233000
DTSTAMP:20260419T231313
CREATED:20251010T152923Z
LAST-MODIFIED:20251217T214415Z
UID:10009150-1766052000-1766100600@www.miedemaauctioneering.com
SUMMARY:Ag & Iron Hybrid Series Year End Auction
DESCRIPTION:Hop Head Farms has officially discontinued operations and will be liquidating all equipment through Miedema Auctioneering. This is a rare opportunity to purchase well maintained agricultural and hop production equipment at auction.Live Auction (with Online Bidding Available) Wednesday\, April 29 Start Time: 10:00 AMAuction HighlightsA wide range of equipment will be offered\, including:• Tractors• Field Equipment• Trucks & Trailers• Harvesting Equipment• Processing Equipment• Sprayers• Support Equipment• …and much more 								\n				\n					\n		\n				\n			\n						\n				\n									\n					\n						\n						\n							\n									Enter Auction\n					\n					\n				\n								\n				\n				\n				\n									\n					\n						\n									Auction Brochure\n					\n					\n				\n								\n				\n				\n				\n									\n					\n						\n									Terms & Conditions\n					\n					\n				\n								\n				\n					\n		\n					\n		\n				\n						\n					\n			\n						\n				\n							\n			\n			\n				\n			\n			\n				\n			\n			\n				\n			\n			\n				\n			\n			\n				\n			\n			\n				\n			\n			\n				\n			\n			\n				\n			\n			\n				\n			\n			\n				\n			\n			\n				\n			\n			\n				\n			\n			\n				\n			\n			\n				\n			\n			\n				\n			\n			\n				\n			\n			\n				\n			\n			\n				\n			\n			\n				\n			\n			\n				\n			\n			\n				\n			\n			\n				\n			\n			\n				\n			\n			\n				\n			\n			\n				\n			\n			\n				\n			\n			\n				\n			\n			\n				\n			\n			\n				\n			\n			\n				\n			\n			\n				\n			\n			\n				\n			\n			\n				\n			\n			\n				\n			\n			\n				\n			\n			\n				\n			\n			\n				\n			\n			\n				\n			\n			\n				\n			\n			\n				\n			\n			\n				\n			\n			\n				\n			\n			\n				\n			\n			\n				\n			\n			\n				\n			\n			\n				\n			\n			\n				\n			\n			\n				\n			\n			\n				\n			\n			\n				\n			\n			\n				\n			\n			\n				\n			\n			\n				\n			\n			\n				\n			\n			\n				\n			\n			\n				\n			\n			\n				\n			\n			\n				\n			\n			\n				\n			\n			\n				\n			\n			\n				\n			\n			\n				\n			\n			\n				\n			\n			\n				\n			\n			\n				\n			\n			\n				\n			\n			\n				\n			\n			\n				\n			\n			\n				\n			\n			\n				\n			\n			\n				\n			\n			\n				\n			\n			\n				\n			\n			\n				\n			\n			\n				\n			\n			\n				\n			\n			\n				\n			\n			\n				\n			\n			\n				\n			\n			\n				\n			\n			\n				\n			\n			\n				\n			\n			\n				\n			\n			\n				\n			\n			\n				\n			\n			\n				\n			\n			\n				\n			\n			\n				\n			\n			\n				\n			\n			\n				\n			\n			\n				\n			\n			\n				\n			\n			\n				\n			\n			\n				\n			\n			\n				\n			\n			\n				\n			\n			\n				\n			\n			\n				\n			\n			\n				\n			\n			\n				\n			\n			\n				\n			\n			\n				\n			\n			\n				\n			\n			\n				\n			\n			\n				\n			\n			\n				\n			\n			\n				\n			\n			\n				\n			\n			\n				\n			\n			\n				\n			\n		\n		\n						\n				\n				\n				\n									TERMS & CONDITIONSInspection: Tuesday April 28 from 10am-4pmWednesday April 29 Auction Day starting at 8amRemoval Times/Failure To Remove: Auction day April 29 until 5pmThursday April 30 9am-5pmFriday May 1 9am-4pmLoading: Forklift available by appointmentNO Loading Dock availableSales Tax: No sales tax will be charged except on titled/over the road items. All purchases of titled vehicles will be charged a 6% Michigan State Sales Tax. For exemption from sales tax\, you will be required to fill out a tax exemption form with a valid dealer’s resale #. [NO EXEMPTIONS] Michigan buyers can Download the form hereBuyers of Titled Vehicles:Michigan Resident buyers: $125.00 Broker Title Processing Fee (plus Michigan state sales tax) will be charged for all titled items which we are required to broker.$15.00 fee for State of Michigan title transfer will be charged.Optional: Plate & Registration Fee. At your request\, we can apply for your plates and registration on your behalf. If you wish to have us do so\, you MUST provide us with proof of insurance for the purchased titled item before you can remove it from the auction site. If not\, you must be prepared to tow or trailer your titled item. Fees are based on a calculation of new vehicle class and previous vehicle registration fees (required by State of Michigan). The applicable fees will be added to your invoice.Optional: $1.00 Lien Fee. If there is a lien holder on the item purchased a $1.00 fee is assessed by the State of Michigan and will be added to your invoice.Please note that buyers will need to sign the appropriate paperwork required by the state for title transfers. Title processing may take up to 10 business days. Then will take 4-10 business days to receive your title from the Secretary of StateNon-Michigan Residents buyers: $125.00 Broker Title Processing FeeState of Michigan requires we collect 6% sales tax and transfer the title as an “In-Transit” through the Michigan Secretary of State before the title is issued to the buyer UNLESS a Bill of Lading is provided showing Export out of Country\, then sales tax may be waived.All out of country buyers must contact our title department to start the paperwork before the item can go across the border. We will need to obtain the appropriate documents and signatures to transfer the title; this could take 1 to 3 weeks. We recommend purchases of titled item made with the intent of taking the titled item out of the country contact the title dept. as soon as a winning bid is accepted. Contact is Charlyn Reitsma at 616-261-4972 or charlyn@1800lastbid.comTerms: All items sell “AS IS\, WHERE IS” with no warranty. There shall be no guarantees or warranties\, expressed or implied\, statutory or otherwise as to the merchantability or fitness for any particular purpose of any goods offered in this sale.Buyer’s Premium: Onsite bidders: 0% if paid by cash\, check\, or wire transfer (see check payment restrictions); 3% if paid by credit cardOnline bidders: 3% if paid by cash\, check\, or wire transfer (see check payment restrictions); 6% if paid by credit cardPayments are expected on the day of Auction. [Online bidders have 3 days to pay for item in full] CashCashier’s checkWire Transfer*Personal & Business checks will be accepted at auction company discretion. Checks will not be accepted from buyers who reside outside of Michigan or drawn on a bank outside of Michigan. Buyers from outside of Michigan are required to pay by wire transfer or cash*Credit Card for total purchase of $2\,000 maximum or less\, with 3% buyer’s premium added.All written material is subject to change. Announcements made day of sale take precedence over printed material.
URL:https://www.miedemaauctioneering.com/auction-calendar/ag-iron-hybrid-series-year-end-auction/
LOCATION:Wayland Auction Center (Repocast)\, 3450 12th Street\, Wayland\, MI\, 49348\, United States
CATEGORIES:Live and Online Webcast Auction
ATTACH;FMTTYPE=image/jpeg:https://miedemaauctioneering.s3.amazonaws.com/wp-content/uploads/2025/10/10160850/Ag-Iron-Year-End-2025a.jpg
ORGANIZER;CN="Jeremy%20Miedema%20-%20Auction%20Manager":MAILTO:jeremy@1800lastbid.com
GEO:42.6693495;-85.6639562
X-APPLE-STRUCTURED-LOCATION;VALUE=URI;X-ADDRESS=Wayland Auction Center (Repocast) 3450 12th Street Wayland MI 49348 United States;X-APPLE-RADIUS=500;X-TITLE=3450 12th Street:geo:-85.6639562,42.6693495
END:VEVENT
END:VCALENDAR