BEGIN:VCALENDAR
VERSION:2.0
PRODID:-//Miedema Auctioneering &amp; Appraisals, Inc. - ECPv6.0.5//NONSGML v1.0//EN
CALSCALE:GREGORIAN
METHOD:PUBLISH
X-ORIGINAL-URL:https://www.miedemaauctioneering.com
X-WR-CALDESC:Events for Miedema Auctioneering &amp; Appraisals, Inc.
REFRESH-INTERVAL;VALUE=DURATION:PT1H
X-Robots-Tag:noindex
X-PUBLISHED-TTL:PT1H
BEGIN:VTIMEZONE
TZID:America/Detroit
BEGIN:DAYLIGHT
TZOFFSETFROM:-0500
TZOFFSETTO:-0400
TZNAME:EDT
DTSTART:20250309T070000
END:DAYLIGHT
BEGIN:STANDARD
TZOFFSETFROM:-0400
TZOFFSETTO:-0500
TZNAME:EST
DTSTART:20251102T060000
END:STANDARD
END:VTIMEZONE
BEGIN:VEVENT
DTSTART;TZID=America/Detroit:20250419T100000
DTEND;TZID=America/Detroit:20250419T233000
DTSTAMP:20260422T143042
CREATED:20241219T173550Z
LAST-MODIFIED:20250418T202456Z
UID:10009115-1745056800-1745105400@www.miedemaauctioneering.com
SUMMARY:Hudsonville Spring 2025 Auction
DESCRIPTION:Spring Hudsonville Fairgrounds Auction – Multi Ring auction selling construction equipment\, farm equipment and miscellaneous items. \nNOTE: This will be a LIVE auction! Online bidding is available through Proxibid if you prefer to bid online. \nAdvertising: Farm trader Deadline March 14—Brochure deadline March 21 Call 616-560-0839 to list your equipment \nWe start accepting equipment and small items on Monday April 14 – April 18 from 8-5.We stop taking small items on Thursday April 17. We will still accept heavy equipment on Friday April 18 until 1:00 pm.  \nENTER Construction Ring 1 AUCTION\nENTER Farm Ring 2 AUCTION\nRegister to Bid Online\nRings 1 and 2 Auction Catalog\nRing  3 Misc. Auction Catalog\nRings 4 Trees-Bushes Auction Catalog\nConsignor Contract\nAuction Brochure\nRiggers & Haulers\nTerms & Conditions \n\n				\n			\n\n				\n			\n\n				\n			\n\n				\n			\n\n				\n			\n\n				\n			\n\n				\n			\n\n				\n			\n\n				\n			\n\n				\n			\n\n				\n			\n\n				\n			\n\n				\n			\n\n				\n			\n\n				\n			\n\n				\n			\n\n				\n			\n\n				\n			\n\n				\n			\n\n				\n			\n\n				\n			\n\n				\n			\n\n				\n			\n\n				\n			\n\n				\n			\n\n				\n			\n\n				\n			\n\n				\n			\n\n				\n			\n\n				\n			\n\n				\n			\n\n				\n			\n\n				\n			\n\n				\n			\nTERMS & CONDITIONS\nInspection: \n\nFriday April 18 from 8:00-5:00\nauction day starting at 8:00am\n\nRemoval Times/Failure To Remove: \n\nAuction day until 5pm\nMonday April 21 and Tuesday April 22 from 8:00-5:00\nWednesday April 23 from 8:00-1:00\n\nLoading: \n\nForklift available\n\nSales Tax: \n\nAll items will be charged 6% Michigan Sales Tax\, unless you supply a valid sales tax- exempt form.  Michigan buyers can Download the form here. All purchases of titled vehicles will also be charged a 6% Michigan Sales Tax.  For exemption from sales tax\, you will be required to fill out a tax exemption form with a valid dealer’s resale # [NO EXEMPTIONS]\n\nBuyers of Titled Vehicles:\nMichigan Resident buyers: \n\n$125.00 Broker Title Processing Fee (plus Michigan state sales tax) will be charged for all titled items which we are required to broker.\n$15.00 fee for State of Michigan title transfer will be charged.\nOptional: Plate & Registration Fee. At your request\, we can apply for your plates and registration on your behalf. If you wish to have us do so\, you MUST provide us with proof of insurance for the purchased titled item before you can remove it from the auction site. If not\, you must be prepared to tow or trailer your titled item. Fees are based on a calculation of new vehicle class and previous vehicle registration fees (required by State of Michigan). The applicable fees will be added to your invoice. \nOptional: $1.00 Temporary Tag Fee. If you request a temporary tag a $1.00 fee is assessed by the State of Michigan and will be added to your invoice.    **Please Note: if the consignor (seller) listed as seller on the title is a licensed car dealer in the State of Michigan\, the temporary tag will be issued by that dealer upon our request from the buyer. Our company will email you the temporary tag when received from the issuing dealer. Please expect there may be a delay in receiving temporary tag only if the consignor (seller) is a licensed dealer in State of Michigan. If the consignor (seller) is not a licensed dealer\, our company will issue the temporary tag at the time it is requested.\nOptional: $1.00 Lien Fee. If there is a lien holder on the item purchased a $1.00 fee is assessed by the State of Michigan and will be added to your invoice. \nPlease note that buyers will need to sign the appropriate paperwork required by the state for title transfers. Title processing may take up to 10 business days. Then will take 4-10 business days to receive your title from the Secretary of State\n\nNon-Michigan Residents buyers: \n\n$125.00 Broker Title Processing Fee \nState of Michigan requires we collect 6% sales tax and transfer the title as an “In-Transit” through the Michigan Secretary of State before the title is issued to the buyer UNLESS a Bill of Lading is provided showing Export out of Country\, then sales tax may be waived.\nAll out of country buyers must contact our title department to start the paperwork before the item can go across the border. We will need to obtain the appropriate documents and signatures to transfer the title; this could take 1 to 3 weeks. We recommend purchases of titled item made with the intent of taking the titled item out of the country contact the title dept. as soon as a winning bid is accepted.  Contact is Charlyn Reitsma at 616-261-4972 or charlyn@1800lastbid.com\n\nTerms: \n\nAll items sell “AS IS\, WHERE IS” with no warranty. There shall be no guarantees or warranties\, expressed or implied\, statutory or otherwise as to the merchantability or fitness for any particular purpose of any goods offered in this sale.\n\nBuyer’s Premium: \n\nOnsite bidders: 0% if paid by cash\, check\, or wire transfer (see check payment restrictions); 3% if paid by credit card\nOnline bidders: 3% if paid by cash\, check\, or wire transfer (see check payment restrictions); 6% if paid by credit card\n\nPayments are expected on the day of Auction. [Online bidders have 3 days to pay for item in full] \n\nCash\nCashier’s check\nWire Transfer\n*Personal & Business checks will be accepted at auction company discretion.  Checks will not be accepted from buyers who reside outside of Michigan or drawn on a bank outside of Michigan.  Buyers from outside of Michigan are required to pay by wire transfer or cash\n*Credit Card for total purchase of $2\,000 maximum or less\, with 3% buyer’s premium added.\n\nAll written material is subject to change. Announcements made day of sale take precedence over printed material.
URL:https://www.miedemaauctioneering.com/auction-calendar/hudsonville-spring-2025-auction/
LOCATION:Hudsonville Fairgrounds – 5235 40th Ave\, Hudsonville\, MI 49423\, 5235 40th Ave\, Hudsonville\, MI\, 49426\, United States
CATEGORIES:Live and Online Webcast Auction
ATTACH;FMTTYPE=image/jpeg:https://miedemaauctioneering.s3.amazonaws.com/wp-content/uploads/2023/12/14114504/ring-2-scaled.jpg
ORGANIZER;CN="Chuck%20Ranney%20-%20Auction%20Manager":MAILTO:chuck@1800lastbid.com
GEO:42.864918;-85.880852
X-APPLE-STRUCTURED-LOCATION;VALUE=URI;X-ADDRESS=Hudsonville Fairgrounds – 5235 40th Ave Hudsonville MI 49423 5235 40th Ave Hudsonville MI 49426 United States;X-APPLE-RADIUS=500;X-TITLE=5235 40th Ave:geo:-85.880852,42.864918
END:VEVENT
END:VCALENDAR