BEGIN:VCALENDAR
VERSION:2.0
PRODID:-//Miedema Auctioneering &amp; Appraisals, Inc. - ECPv6.0.5//NONSGML v1.0//EN
CALSCALE:GREGORIAN
METHOD:PUBLISH
X-WR-CALNAME:Miedema Auctioneering &amp; Appraisals, Inc.
X-ORIGINAL-URL:https://www.miedemaauctioneering.com
X-WR-CALDESC:Events for Miedema Auctioneering &amp; Appraisals, Inc.
REFRESH-INTERVAL;VALUE=DURATION:PT1H
X-Robots-Tag:noindex
X-PUBLISHED-TTL:PT1H
BEGIN:VTIMEZONE
TZID:America/Detroit
BEGIN:DAYLIGHT
TZOFFSETFROM:-0500
TZOFFSETTO:-0400
TZNAME:EDT
DTSTART:20240310T070000
END:DAYLIGHT
BEGIN:STANDARD
TZOFFSETFROM:-0400
TZOFFSETTO:-0500
TZNAME:EST
DTSTART:20241103T060000
END:STANDARD
END:VTIMEZONE
BEGIN:VEVENT
DTSTART;TZID=America/Detroit:20240810T100000
DTEND;TZID=America/Detroit:20240810T233000
DTSTAMP:20260423T045128
CREATED:20240624T163909Z
LAST-MODIFIED:20240809T204217Z
UID:10009103-1723284000-1723332600@www.miedemaauctioneering.com
SUMMARY:Prime US Virtual Live Auction - Collector\, Classic & Performance Vehicles (Accepting Consignments)
DESCRIPTION:ENTER Proxibid.com AUCTION\nRegister to Bid On Proxibid.com\nENTER EquipmentFacts.com AUCTION\nRegister to Bid On EquipmentFacts.com\nENTER Hibid.com AUCTION Riggers & Haulers\nTerms & Conditions \nPrime US Virtual Live Auction – Collector\, Classic & Performance Vehicles (Accepting Consignments) \nMark your calendars for Saturday\, August 10th! The virtual live auctions starts at 10:00 am. Bid on a large selection of 40+ exceptional vehicles\, ranging from meticulously maintained classics to heart-stopping performance machines and coveted collectibles. Choose your preferred bidding platform: Equipment Facts\, Proxibid\, or HI BID. The vehicles themselves are conveniently located at any of our Repocast facilities in Byron Center\, Wayland\, Ortonville\, or Gaylord. \nPrime US is bursting at the seams with incredible inventory\, and to make way for even more exciting arrivals\, they’re hosting a Collector\, Classic\, Performance Car and Trucks Virtual Live Auction. Partnering with the Miedema Auctioneering\, this is your chance to snag the ride of your dreams – without leaving your living room! This auction will also have some Shop Equipment\, Car Parts\, and Memorabilia. \nOwn a hidden gem gathering dust in your garage? A classic yearning for a new owner? This auction is for you! Consign your vehicle and let it find its perfect match. Contact Chuck Ranney at 616-560-0839 to secure your spot. The consignment entry fee is only $200\, but don’t delay – the deadline to consign is August 2nd! \nThis is your chance to buy\, sell\, or simply witness automotive dreams come true! Prime US’s Virtual Live Auction promises an unparalleled online experience. Don’t miss out! Mark your calendars and prepare to be captivated by a showcase of automotive excellence! \nVehicle LocationsBYRON CENTER\, MI601 Gordon Industrial Ct SWByron Center\, MI 49315 \nORTONVILLE\, MI1350 N. Ortonville RoadOrtonville\, MI 48462 \nWAYLAND\, MI3450 12th StreetWayland\, MI 49348 \nGAYLORD\, MI5216 Old 27 N\,Gaylord\, MI 49735  \n\n				\n			\n\n				\n			\n\n				\n			\n\n				\n			\n\n				\n			\n\n				\n			\n\n				\n			\n\n				\n			\n\n				\n			\n\n				\n			\n\n				\n			\n\n				\n			\n\n				\n			\n\n				\n			\n\n				\n			\n\n				\n			\n\n				\n			\n\n				\n			\n\n				\n			\n\n				\n			\n\n				\n			\n\n				\n			\n\n				\n			\n\n				\n			\n\n				\n			\n\n				\n			\n\n				\n			\n\n				\n			\n\n				\n			\n\n				\n			\n\n				\n			\n\n				\n			\n\n				\n			\n\n				\n			\n\n				\n			\n\n				\n			\n\n				\n			\n\n				\n			\n\n				\n			\n\n				\n			\n\n				\n			\n\n				\n			\n\n				\n			\n\n				\n			\n\n				\n			\n\n				\n			\n\n				\n			\n\n				\n			\n\n				\n			\n\n				\n			\n\n				\n			\n\n				\n			\n\n				\n			\n\n				\n			\n\n				\n			\n\n				\n			\n\n				\n			\n\n				\n			\n\n				\n			\n\n				\n			\nTERMS & CONDITIONS\nInspection: \n\nAugust 5\,6\,7\,8\,9\nMonday\, Tuesday\, Wednesday\, and Friday from 9:00am-4:00pm\nThursday from 12:00-8:00PM\n\nRemoval Times/Failure To Remove: \n\nAugust 12\,13\,14\,15\,16\nMonday\, Tuesday\, Wednesday\, and Friday from 9:00am-4:00pm\nThursday from 12:00-4:00PM\n\nSales Tax: \n\nAll items will be charged 6% Michigan Sales Tax\, unless you supply a valid sales tax- exempt form. Michigan buyers can Download the form here. All purchases of titled vehicles will also be charged a 6% Michigan Sales Tax. For exemption from sales tax\, you will be required to fill out a tax exemption form with a valid dealer’s resale # [NO EXEMPTIONS]\n\nBuyers of Titled Vehicles:\nMichigan Resident buyers: \n\n$125.00 Broker Title Processing Fee (plus Michigan state sales tax) will be charged for all titled items which we are required to broker.\n$15.00 fee for State of Michigan title transfer will be charged.\nOptional: Plate & Registration Fee. At your request\, we can apply for your plates and registration on your behalf. If you wish to have us do so\, you MUST provide us with proof of insurance for the purchased titled item before you can remove it from the auction site. If not\, you must be prepared to tow or trailer your titled item. Fees are based on a calculation of new vehicle class and previous vehicle registration fees (required by State of Michigan). The applicable fees will be added to your invoice.\nOptional: $1.00 Temporary Tag Fee. If you request a temporary tag a $1.00 fee is assessed by the State of Michigan and will be added to your invoice. **Please Note: if the consignor (seller) listed as seller on the title is a licensed car dealer in the State of Michigan\, the temporary tag will be issued by that dealer upon our request from the buyer. Our company will email you the temporary tag when received from the issuing dealer. Please expect there may be a delay in receiving temporary tag only if the consignor (seller) is a licensed dealer in State of Michigan. If the consignor (seller) is not a licensed dealer\, our company will issue the temporary tag at the time it is requested.\nOptional: $1.00 Lien Fee. If there is a lien holder on the item purchased a $1.00 fee is assessed by the State of Michigan and will be added to your invoice.\nPlease note that buyers will need to sign the appropriate paperwork required by the state for title transfers. Title processing may take up to 10 business days. Then will take 4-10 business days to receive your title from the Secretary of State\n\nNon-Michigan Residents buyers: \n\n$125.00 Broker Title Processing Fee\nState of Michigan requires we collect 6% sales tax and transfer the title as an “In-Transit” through the Michigan Secretary of State before the title is issued to the buyer UNLESS a Bill of Lading is provided showing Export out of Country\, then sales tax may be waived.\nAll out of country buyers must contact our title department to start the paperwork before the item can go across the border. We will need to obtain the appropriate documents and signatures to transfer the title; this could take 1 to 3 weeks. We recommend purchases of titled item made with the intent of taking the titled item out of the country contact the title dept. as soon as a winning bid is accepted. Contact is Charlyn Reitsma at 616-261-4972 or charlyn@1800lastbid.com\n\nTerms: \n\nAll items sell “AS IS\, WHERE IS” with no warranty. There shall be no guarantees or warranties\, expressed or implied\, statutory or otherwise as to the merchantability or fitness for any particular purpose of any goods offered in this sale.\n\nBuyer’s Premium: \n\nOnsite bidders: 13% if paid by cash\, check\, or wire transfer (see check payment restrictions); 16% if paid by credit card\n\nAll payments will need to be done in Byron Center or wire transfer \n\nCash\nCashier’s check\nWire Transfer\n*Credit Card for total purchase of $2\,000 maximum or less\, with 3% buyer’s premium added.\n\nAll written material is subject to change. Announcements made day of sale take precedence over printed material.
URL:https://www.miedemaauctioneering.com/auction-calendar/prime-us-virtual-live-auction-collector-classic-performance-vehicles-accepting-consignments/
LOCATION:Online: Repocast.com\, MI\, United States
CATEGORIES:Online Only Auction
ATTACH;FMTTYPE=image/jpeg:https://miedemaauctioneering.s3.amazonaws.com/wp-content/uploads/2024/06/03122317/Collage_Fotor-1-scaled.jpg
ORGANIZER;CN="Chuck%20Ranney%20-%20Auction%20Manager":MAILTO:chuck@1800lastbid.com
GEO:42.824106197528;-85.679203508102
END:VEVENT
BEGIN:VEVENT
DTSTART;TZID=America/Detroit:20240822T140000
DTEND;TZID=America/Detroit:20240822T233000
DTSTAMP:20260423T045128
CREATED:20240701T201148Z
LAST-MODIFIED:20240815T203430Z
UID:10009105-1724335200-1724369400@www.miedemaauctioneering.com
SUMMARY:Hudsonville Fair Livestock Auction – Live Auction
DESCRIPTION:JOIN US THURSDAY OF FAIR WEEK FOR THE HUDSONVILLE LIVESTOCK AUCTION \n\nRegistration for LIVE AUCTION Begins: 1:00 p.m.\nRegistration for ONLINE BIDDING – more information to come soon.\nAuction Starts: 2:00 p.m.\nSale Order is: Milk\, Lambs\, Colored Beef\, Dairy Beef\, Feeder Calves\, Hogs\n\nThe Hudsonville Livestock & Dairy Committee would like to Thank All of our Buyers. \nENTER AUCTION\n 
URL:https://www.miedemaauctioneering.com/auction-calendar/hudsonville-fair-livestock-auction-live-auction-2/
LOCATION:Hudsonville Fairgrounds – 5235 40th Ave\, Hudsonville\, MI 49423\, 5235 40th Ave\, Hudsonville\, MI\, 49426\, United States
CATEGORIES:Live and Online Webcast Auction
ATTACH;FMTTYPE=image/jpeg:https://miedemaauctioneering.s3.amazonaws.com/wp-content/uploads/2024/07/01161142/Hudsonville-Community-Fair.jpg
ORGANIZER;CN="Chuck%20Ranney%20-%20Auction%20Manager":MAILTO:chuck@1800lastbid.com
GEO:42.864918;-85.880852
X-APPLE-STRUCTURED-LOCATION;VALUE=URI;X-ADDRESS=Hudsonville Fairgrounds – 5235 40th Ave Hudsonville MI 49423 5235 40th Ave Hudsonville MI 49426 United States;X-APPLE-RADIUS=500;X-TITLE=5235 40th Ave:geo:-85.880852,42.864918
END:VEVENT
END:VCALENDAR