BEGIN:VCALENDAR
VERSION:2.0
PRODID:-//Miedema Auctioneering &amp; Appraisals, Inc. - ECPv6.0.5//NONSGML v1.0//EN
CALSCALE:GREGORIAN
METHOD:PUBLISH
X-ORIGINAL-URL:https://www.miedemaauctioneering.com
X-WR-CALDESC:Events for Miedema Auctioneering &amp; Appraisals, Inc.
REFRESH-INTERVAL;VALUE=DURATION:PT1H
X-Robots-Tag:noindex
X-PUBLISHED-TTL:PT1H
BEGIN:VTIMEZONE
TZID:America/Detroit
BEGIN:DAYLIGHT
TZOFFSETFROM:-0500
TZOFFSETTO:-0400
TZNAME:EDT
DTSTART:20240310T070000
END:DAYLIGHT
BEGIN:STANDARD
TZOFFSETFROM:-0400
TZOFFSETTO:-0500
TZNAME:EST
DTSTART:20241103T060000
END:STANDARD
END:VTIMEZONE
BEGIN:VEVENT
DTSTART;TZID=America/Detroit:20240413T100000
DTEND;TZID=America/Detroit:20240413T233000
DTSTAMP:20260423T112510
CREATED:20231214T164710Z
LAST-MODIFIED:20240412T184539Z
UID:10009082-1713002400-1713051000@www.miedemaauctioneering.com
SUMMARY:Hudsonville Spring 2024 Auction
DESCRIPTION:Spring Hudsonville Fairgrounds Auction – Multi Ring auction selling construction equipment\, farm equipment and miscellaneous items. \n\nNOTE: This will be a LIVE auction! Online bidding is available through Proxibid if you prefer to bid online. \n\nAdvertising: Farm trader Deadline March 11—Brochure deadline March 22 Call 616-560-0839 to list your equipment \n\nWe start accepting equipment and small items on Monday April 8 – April 12 from 8-5.\nWe stop taking small items on Thursday April 11. We will still accept heavy equipment on Friday April 12 until 3:00 pm. \nENTER RING 1 – CONSTRUCTION\nENTER RING 2 – FARM\nRegister to Bid Online\nRING 3 & 4 Auction Catalog\nAuction Brochure\nConsignor ContractRiggers & Haulers\nTerms & Conditions\n		 \n\n				\n			\n\n				\n			\n\n				\n			\n\n				\n			\n\n				\n			\n\n				\n			\n\n				\n			\n\n				\n			\n\n				\n			\n\n				\n			\n\n				\n			\n\n				\n			\n\n				\n			\n\n				\n			\n\n				\n			\n\n				\n			\n\n				\n			\n\n				\n			\n\n				\n			\n\n				\n			\n\n				\n			\n\n				\n			\n\n				\n			\n\n				\n			\n\n				\n			\n\n				\n			\n\n				\n			\n\n				\n			\n\n				\n			\n\n				\n			\n\n				\n			\n\n				\n			\n\n				\n			\n\n				\n			\n\n				\n			\n\n				\n			\n\n				\n			\n\n				\n			\n\n				\n			\n\n				\n			\n\n				\n			\n\n				\n			\n\n				\n			\n\n				\n			\n\n				\n			\n\n				\n			\n\n				\n			\n\n				\n			\n\n				\n			\n\n				\n			\n\n				\n			\n\n				\n			\n\n				\n			\n\n				\n			\n\n				\n			\n\n				\n			\n\n				\n			\n\n				\n			\n\n				\n			\n\n				\n			\n\n				\n			\n\n				\n			\n\n				\n			\n\n				\n			\n\n				\n			\n\n				\n			\n\n				\n			\n\n				\n			\n\n				\n			\n\n				\n			\nTERMS & CONDITIONS\nInspection: \n\nFriday April 12 2024 from 8:00am-5:00pm\n\nRemoval Times/Failure To Remove: \n\nAuction day Saturday April 13 till 5:00pm\nMonday April 15- Wednesday April 17 From 8:00-5:00\n\nLoading: \n\nForklift available\n\nSales Tax: \n\nAll items will be charged 6% Michigan Sales Tax\, unless you supply a valid sales tax- exempt form.  Michigan buyers can Download the form here. All purchases of titled vehicles will also be charged a 6% Michigan Sales Tax.  For exemption from sales tax\, you will be required to fill out a tax exemption form with a valid dealer’s resale # [NO EXEMPTIONS]\n\nBuyers of Titled Vehicles:\nMichigan Resident buyers: \n\n$125.00 Broker Title Processing Fee (plus Michigan state sales tax) will be charged for all titled items which we are required to broker.\n$15.00 fee for State of Michigan title transfer will be charged.\nOptional: Plate & Registration Fee. At your request\, we can apply for your plates and registration on your behalf. If you wish to have us do so\, you MUST provide us with proof of insurance for the purchased titled item before you can remove it from the auction site. If not\, you must be prepared to tow or trailer your titled item. Fees are based on a calculation of new vehicle class and previous vehicle registration fees (required by State of Michigan). The applicable fees will be added to your invoice.\nOptional: $1.00 – 30 Day Temporary Tag Fee. If you request a temporary tag a $1.00 fee is assessed by the State of Michigan and will be added to your invoice.    **Please Note: if the consignor (seller) listed as seller on the title is a licensed car dealer in the State of Michigan\, the temporary tag will be issued by that dealer upon our request from the buyer. Our company will email you the temporary tag when received from the issuing dealer. Please expect there may be a delay in receiving temporary tag only if the consignor (seller) is a licensed dealer in State of Michigan. If the consignor (seller) is not a licensed dealer\, our company will issue the temporary tag at the time it is requested.\nOptional: $1.00 Lien Fee. If there is a lien holder on the item purchased a $1.00 fee is assessed by the State of Michigan and will be added to your invoice.\nPlease note that buyers will need to sign the appropriate paperwork required by the state for title transfers. Title processing may take up to 21 business days. Then will take 4-10 business days to receive your title from the Secretary of State.\n\nNon-Michigan Residents buyers: \n\n$125.00 Broker Title Processing Fee (plus applicable sales tax rate based on state of residence).\n$15 In – Transit Title Fee – State of Michigan will issue a 60 day temporary plate & registration for use of the unit until the buyer titles in their state of residence.\nAny other necessary fees according to their state rules for titled items.\nPlease note that buyers will need to sign the appropriate paperwork required by the state for title transfers. Title processing may take up to 21 business days. Then will take 4-10 business days to receive your title from the Secretary of State.\n\nFor Out of Country buyers: \n\n$125.00 Broker Title Processing Fee.\nState of Michigan requires we collect 6% sales tax and transfer the title as an “In-Transit” through the Michigan Secretary of State before the title is issued to the buyer.\nIf buyer is able to provide Miedema Auctioneering with a Bill of Lading showing export out of the US\, sales tax may be waived.\nAll out of country buyers must contact our title department to start the paperwork before the item can go across the border. We will need to obtain the appropriate documents and signatures to transfer the title; this could take 3 to 5 weeks. We recommend purchases of titled item made with the intent of taking the titled item out of the country contact the title dept. as soon as a winning bid is accepted.  Contact is Charlyn Reitsma at 616-261-4972 or charlyn@1800lastbid.com\n\nFor Vehicle Dealers: \n\n$25 Dealer Title Fee – for re-assignment of title.  We may request a copy of your valid dealer’s license for verification.\n\nTerms: \n\nAll items sell “AS IS\, WHERE IS” with no warranty. There shall be no guarantees or warranties\, expressed or implied\, statutory or otherwise as to the merchantability or fitness for any particular purpose of any goods offered in this sale.\n\nBuyer’s Premium: \n\nOnsite bidders: 0% if paid by cash\, check\, or wire transfer (see check payment restrictions); 3% if paid by credit card\nOnline bidders: 3% if paid by cash\, check\, or wire transfer (see check payment restrictions); 6% if paid by credit card\n\nPayments are expected on the day of Auction. [Online bidders have 3 days to pay for item in full] \n\nCash\nCashier’s check\nWire Transfer\n*Personal & Business checks will be accepted at auction company discretion.  Checks will not be accepted from buyers who reside outside of Michigan or drawn on a bank outside of Michigan.  Buyers from outside of Michigan are required to pay by wire transfer or cash\n*Credit Card for total purchase of $2\,000 maximum or less\, with 3% buyer’s premium added.\n\nAll written material is subject to change. Announcements made day of sale take precedence over printed material.
URL:https://www.miedemaauctioneering.com/auction-calendar/hudsonville-spring-2024-auction/
LOCATION:Hudsonville Fairgrounds – 5235 40th Ave\, Hudsonville\, MI 49423\, 5235 40th Ave\, Hudsonville\, MI\, 49426\, United States
CATEGORIES:Live and Online Webcast Auction
ATTACH;FMTTYPE=image/jpeg:https://miedemaauctioneering.s3.amazonaws.com/wp-content/uploads/2023/12/14114504/ring-2-scaled.jpg
ORGANIZER;CN="Chuck%20Ranney%20-%20Auction%20Manager":MAILTO:chuck@1800lastbid.com
GEO:42.864918;-85.880852
X-APPLE-STRUCTURED-LOCATION;VALUE=URI;X-ADDRESS=Hudsonville Fairgrounds – 5235 40th Ave Hudsonville MI 49423 5235 40th Ave Hudsonville MI 49426 United States;X-APPLE-RADIUS=500;X-TITLE=5235 40th Ave:geo:-85.880852,42.864918
END:VEVENT
BEGIN:VEVENT
DTSTART;TZID=America/Detroit:20240417T100000
DTEND;TZID=America/Detroit:20240417T233000
DTSTAMP:20260423T112510
CREATED:20240125T180924Z
LAST-MODIFIED:20240417T154846Z
UID:10009088-1713348000-1713396600@www.miedemaauctioneering.com
SUMMARY:De Young Celery Farms – Retirement Auction
DESCRIPTION:The De Young family has farmed since 1979 starting in the Hudsonville area and moved to the Decatur area in 1982. They have decided to retire and have hired Miedema Auctioneering to conduct a live auction with internet bidding on Wednesday April 17\, 2024\, at 10am. They will be selling approximately 40 Tractors\, Tillage Equipment\, Irrigation Travelers\, Irrigation Pumps\, Irrigation pipe\, Forklifts\, Onion Harvester\, Celery Harvesters\, Wagons\, Trailers\, Packing Equipment\, Fertilizer Equipment\, Brush Hogs\, Planters\, Sprayers\, Support Equipment plus much much more. Watch our website for mor details to come. This will be a great opportunity to purchase some well-maintained equipment right off the farm.  \nhttps://www.youtube.com/watch?v=8y6cQxUPNS0\nENTER Proxibid.com AUCTION\nRegister to Bid on Proxibid.com\nENTER EquipmentFacts.com AUCTION\nRegister to Bid on EquipmentFacts.com\nAuction Catalog\nAuction Brochure\nRiggers & Haulers\nTerms & Conditions \n\n				\n			\n\n				\n			\n\n				\n			\n\n				\n			\n\n				\n			\n\n				\n			\n\n				\n			\n\n				\n			\n\n				\n			\n\n				\n			\n\n				\n			\n\n				\n			\n\n				\n			\n\n				\n			\n\n				\n			\n\n				\n			\n\n				\n			\n\n				\n			\n\n				\n			\n\n				\n			\n\n				\n			\n\n				\n			\n\n				\n			\n\n				\n			\n\n				\n			\n\n				\n			\n\n				\n			\n\n				\n			\n\n				\n			\n\n				\n			\n\n				\n			\n\n				\n			\n\n				\n			\n\n				\n			\n\n				\n			\n\n				\n			\n\n				\n			\n\n				\n			\n\n				\n			\n\n				\n			\n\n				\n			\n\n				\n			\n\n				\n			\n\n				\n			\n\n				\n			\n\n				\n			\n\n				\n			\n\n				\n			\n\n				\n			\n\n				\n			\n\n				\n			\n\n				\n			\n\n				\n			\n\n				\n			\n\n				\n			\n\n				\n			\n\n				\n			\n\n				\n			\n\n				\n			\n\n				\n			\n\n				\n			\n\n				\n			\n\n				\n			\n\n				\n			\n\n				\n			\n\n				\n			\n\n				\n			\n\n				\n			\n\n				\n			\n\n				\n			\n\n				\n			\nTERMS & CONDITIONS\nInspection: \n\nTuesday April 16 9:00-4:00\nAuction day Wednesday April 17 starting at 8:00am\n\nRemoval Times/Failure To Remove: \n\nThursday and Friday April 18\,19 from 9:00am-4:00pm\nMonday April 22 from 9:00am-4:00pm \n\nSales Tax: \n\nNo sales tax will be charged except on titled/over the road items. All purchases of titled vehicles will be charged a 6% Michigan State Sales Tax. For exemption from sales tax\, you will be required to fill out a tax exemption form with a valid dealer’s resale #. [NO EXEMPTIONS] Michigan buyers can Download the form here\n\nBuyers of Titled Vehicles:\nMichigan Resident buyers: \n\n$125.00 Broker Title Processing Fee (plus Michigan state sales tax) will be charged for all titled items which we are required to broker.\n$15.00 fee for State of Michigan title transfer will be charged.\nOptional: Plate & Registration Fee. At your request\, we can apply for your plates and registration on your behalf. If you wish to have us do so\, you MUST provide us with proof of insurance for the purchased titled item before you can remove it from the auction site. If not\, you must be prepared to tow or trailer your titled item. Fees are based on a calculation of new vehicle class and previous vehicle registration fees (required by State of Michigan). The applicable fees will be added to your invoice. \nOptional: $1.00 Temporary Tag Fee. If you request a temporary tag a $1.00 fee is assessed by the State of Michigan and will be added to your invoice.    **Please Note: if the consignor (seller) listed as seller on the title is a licensed car dealer in the State of Michigan\, the temporary tag will be issued by that dealer upon our request from the buyer. Our company will email you the temporary tag when received from the issuing dealer. Please expect there may be a delay in receiving temporary tag only if the consignor (seller) is a licensed dealer in State of Michigan. If the consignor (seller) is not a licensed dealer\, our company will issue the temporary tag at the time it is requested.\nOptional: $1.00 Lien Fee. If there is a lien holder on the item purchased a $1.00 fee is assessed by the State of Michigan and will be added to your invoice. \nPlease note that buyers will need to sign the appropriate paperwork required by the state for title transfers. Title processing may take up to 10 business days. Then will take 4-10 business days to receive your title from the Secretary of State\n\nNon-Michigan Residents buyers: \n\n$125.00 Broker Title Processing Fee \nState of Michigan requires we collect 6% sales tax and transfer the title as an “In-Transit” through the Michigan Secretary of State before the title is issued to the buyer UNLESS a Bill of Lading is provided showing Export out of Country\, then sales tax may be waived.\nAll out of country buyers must contact our title department to start the paperwork before the item can go across the border. We will need to obtain the appropriate documents and signatures to transfer the title; this could take 1 to 3 weeks. We recommend purchases of titled item made with the intent of taking the titled item out of the country contact the title dept. as soon as a winning bid is accepted.  Contact is Charlyn Reitsma at 616-261-4972 or charlyn@1800lastbid.com\n\nTerms: \n\nAll items sell “AS IS\, WHERE IS” with no warranty. There shall be no guarantees or warranties\, expressed or implied\, statutory or otherwise as to the merchantability or fitness for any particular purpose of any goods offered in this sale.\n\nBuyer’s Premium: \n\nOnsite bidders: 0% if paid by cash\, check\, or wire transfer (see check payment restrictions); 3% if paid by credit card\nOnline bidders: 3% if paid by cash\, check\, or wire transfer (see check payment restrictions); 6% if paid by credit card\n\nPayments are expected on the day of Auction. [Online bidders have 3 days to pay for item in full] \n\nCash\nCashier’s check\nWire Transfer\n*Personal & Business checks will be accepted at auction company discretion.  Checks will not be accepted from buyers who reside outside of Michigan or drawn on a bank outside of Michigan.  Buyers from outside of Michigan are required to pay by wire transfer or cash\n*Credit Card for total purchase of $2\,000 maximum or less\, with 3% buyer’s premium added.\n\nAll written material is subject to change. Announcements made day of sale take precedence over printed material.
URL:https://www.miedemaauctioneering.com/auction-calendar/de-youngs-celery-farms-retirement-auction/
LOCATION:De Youngs Celery Farms\, 39993 88TH Ave\, Decatur\, MI\, 49045\, United States
CATEGORIES:Live and Online Webcast Auction
ATTACH;FMTTYPE=image/jpeg:https://miedemaauctioneering.s3.amazonaws.com/wp-content/uploads/2024/02/16143911/IMG_5874.jpg
ORGANIZER;CN="Chuck%20Ranney%20-%20Auction%20Manager":MAILTO:chuck@1800lastbid.com
GEO:42.094905;-85.932723
X-APPLE-STRUCTURED-LOCATION;VALUE=URI;X-ADDRESS=De Youngs Celery Farms 39993 88TH Ave Decatur MI 49045 United States;X-APPLE-RADIUS=500;X-TITLE=39993 88TH Ave:geo:-85.932723,42.094905
END:VEVENT
BEGIN:VEVENT
DTSTART;TZID=America/Detroit:20240423T100000
DTEND;TZID=America/Detroit:20240423T233000
DTSTAMP:20260423T112510
CREATED:20240319T125714Z
LAST-MODIFIED:20240423T182252Z
UID:10009094-1713866400-1713915000@www.miedemaauctioneering.com
SUMMARY:Superior Asphalt Select Equipment Auction ~ Live & Online Webcast
DESCRIPTION:Superior Asphalt has decided to auction select equipment as part of ongoing operations to make room for new equipment. Miedema Auctioneering will conduct a live auction with simulcast online bidding at their location at 8108 E Emery Rd\, Portland\, MI 48875. This presents an excellent opportunity to purchase asphalt equipment\, construction equipment\, attachments\, trucks\, and trailers. Auction highlights include: 2022 Roadtec RP-195E like new paver with only 165 hours\, 2016 Wirtgen W200I Milling Machine\, Seal Coat Trucks\, Heavy Spec Semi Tractors\, Dump Trucks\, Low Boy Trailers\, (5) 8-Axle Live Bottom Trailers\, (2) 2022 Ford Bronco Badlands SUV’s\, and more.  \nENTER Proxibid.com AUCTION\nRegister to Bid on Proxibid.com \nENTER Equimentfacts.com AUCTION\nRegister to Bid On EquipmentFactsAuction Brochure\nRiggers & Haulers\nTerms & Conditions \n\n				\n			\n\n				\n			\n\n				\n			\n\n				\n			\n\n				\n			\n\n				\n			\n\n				\n			\n\n				\n			\n\n				\n			\n\n				\n			\n\n				\n			\n\n				\n			\n\n				\n			\n\n				\n			\n\n				\n			\n\n				\n			\n\n				\n			\n\n				\n			\n\n				\n			\n\n				\n			\n\n				\n			\n\n				\n			\n\n				\n			\n\n				\n			\n\n				\n			\n\n				\n			\n\n				\n			\n\n				\n			\n\n				\n			\n\n				\n			\n\n				\n			\n\n				\n			\n\n				\n			\n\n				\n			\n\n				\n			\n\n				\n			\n\n				\n			\n\n				\n			\n\n				\n			\n\n				\n			\n\n				\n			\n\n				\n			\n\n				\n			\n\n				\n			\n\n				\n			\n\n				\n			\n\n				\n			\n\n				\n			\n\n				\n			\n\n				\n			\n\n				\n			\n\n				\n			\n\n				\n			\n\n				\n			\n\n				\n			\n\n				\n			\n\n				\n			\n\n				\n			\n\n				\n			\n\n				\n			\n\n				\n			\n\n				\n			\n\n				\n			\n\n				\n			\n\n				\n			\n\n				\n			\n\n				\n			\n\n				\n			\n\n				\n			\n\n				\n			\n\n				\n			\n\n				\n			\n\n				\n			\n\n				\n			\n\n				\n			\n\n				\n			\n\n				\n			\n\n				\n			\nTERMS & CONDITIONS\nInspection: \n\nApril 19 9am-4pm\nApril 22 9am-4pm\nApril 23 8am-4pm\n\nRemoval Times/Failure To Remove: \n\nApril 23 10am-4pm\nApril 24 9am-4pm\nApril 25 9am-4pm\nApril 26 9am-4pm\n\nLoading: \n\nForklift available\nNO Loading Dock\n\nSales Tax: \n\nAll items will be charged 6% Michigan Sales Tax\, unless you supply a valid sales tax- exempt form.  Michigan buyers can Download the form here. All purchases of titled vehicles will also be charged a 6% Michigan Sales Tax.  For exemption from sales tax\, you will be required to fill out a tax exemption form with a valid dealer’s resale # [NO EXEMPTIONS]\n\nBuyers of Titled Vehicles:\nMichigan Resident buyers: \n\n$125.00 Broker Title Processing Fee (plus Michigan state sales tax) will be charged for all titled items which we are required to broker.\n$15.00 fee for State of Michigan title transfer will be charged.\nOptional: Plate & Registration Fee. At your request\, we can apply for your plates and registration on your behalf. If you wish to have us do so\, you MUST provide us with proof of insurance for the purchased titled item before you can remove it from the auction site. If not\, you must be prepared to tow or trailer your titled item. Fees are based on a calculation of new vehicle class and previous vehicle registration fees (required by State of Michigan). The applicable fees will be added to your invoice. \nOptional: $1.00 Temporary Tag Fee. If you request a temporary tag a $1.00 fee is assessed by the State of Michigan and will be added to your invoice.    **Please Note: if the consignor (seller) listed as seller on the title is a licensed car dealer in the State of Michigan\, the temporary tag will be issued by that dealer upon our request from the buyer. Our company will email you the temporary tag when received from the issuing dealer. Please expect there may be a delay in receiving temporary tag only if the consignor (seller) is a licensed dealer in State of Michigan. If the consignor (seller) is not a licensed dealer\, our company will issue the temporary tag at the time it is requested.\nOptional: $1.00 Lien Fee. If there is a lien holder on the item purchased a $1.00 fee is assessed by the State of Michigan and will be added to your invoice. \nPlease note that buyers will need to sign the appropriate paperwork required by the state for title transfers. Title processing may take up to 10 business days. Then will take 4-10 business days to receive your title from the Secretary of State\n\nNon-Michigan Residents buyers: \n\n$125.00 Broker Title Processing Fee \nState of Michigan requires we collect 6% sales tax and transfer the title as an “In-Transit” through the Michigan Secretary of State before the title is issued to the buyer UNLESS a Bill of Lading is provided showing Export out of Country\, then sales tax may be waived.\nAll out of country buyers must contact our title department to start the paperwork before the item can go across the border. We will need to obtain the appropriate documents and signatures to transfer the title; this could take 1 to 3 weeks. We recommend purchases of titled item made with the intent of taking the titled item out of the country contact the title dept. as soon as a winning bid is accepted.  Contact is Charlyn Reitsma at 616-261-4972 or charlyn@1800lastbid.com\n\nTerms: \n\nAll items sell “AS IS\, WHERE IS” with no warranty. There shall be no guarantees or warranties\, expressed or implied\, statutory or otherwise as to the merchantability or fitness for any particular purpose of any goods offered in this sale.\n\nBuyer’s Premium: \n\nOnsite bidders: 10% if paid by cash\, check\, or wire transfer (see check payment restrictions); 13% if paid by credit card\nOnline bidders: 13% if paid by cash\, check\, or wire transfer (see check payment restrictions); 16% if paid by credit card\n\nPayments are expected on the day of Auction. [Online bidders have 3 days to pay for item in full] \n\nCash\nCashier’s check\nWire Transfer\n*Personal & Business checks will be accepted at auction company discretion.  Checks will not be accepted from buyers who reside outside of Michigan or drawn on a bank outside of Michigan.  Buyers from outside of Michigan are required to pay by wire transfer or cash\n*Credit Card for total purchase of $2\,000 maximum or less\, with 3% buyer’s premium added.\n\nAll written material is subject to change. Announcements made day of sale take precedence over printed material.
URL:https://www.miedemaauctioneering.com/auction-calendar/superior-asphalt-select-equipment-auction-live-online-webcast/
LOCATION:Superior Asphalt Auction\, 8108 E Emery Rd\, Portland\, 48875
CATEGORIES:Live and Online Webcast Auction
ATTACH;FMTTYPE=image/png:https://miedemaauctioneering.s3.amazonaws.com/wp-content/uploads/2024/03/28144207/Superior-Asphalt-Thumbnail.png
ORGANIZER;CN="Jameson%20Van%20Dam":MAILTO:jameson@1800lastbid.com
GEO:42.8421411;-84.9144235
X-APPLE-STRUCTURED-LOCATION;VALUE=URI;X-ADDRESS=Superior Asphalt Auction 8108 E Emery Rd Portland 48875;X-APPLE-RADIUS=500;X-TITLE=8108 E Emery Rd:geo:-84.9144235,42.8421411
END:VEVENT
END:VCALENDAR