BEGIN:VCALENDAR
VERSION:2.0
PRODID:-//Miedema Auctioneering &amp; Appraisals, Inc. - ECPv6.0.5//NONSGML v1.0//EN
CALSCALE:GREGORIAN
METHOD:PUBLISH
X-ORIGINAL-URL:https://www.miedemaauctioneering.com
X-WR-CALDESC:Events for Miedema Auctioneering &amp; Appraisals, Inc.
REFRESH-INTERVAL;VALUE=DURATION:PT1H
X-Robots-Tag:noindex
X-PUBLISHED-TTL:PT1H
BEGIN:VTIMEZONE
TZID:America/Detroit
BEGIN:DAYLIGHT
TZOFFSETFROM:-0500
TZOFFSETTO:-0400
TZNAME:EDT
DTSTART:20180311T070000
END:DAYLIGHT
BEGIN:STANDARD
TZOFFSETFROM:-0400
TZOFFSETTO:-0500
TZNAME:EST
DTSTART:20181104T060000
END:STANDARD
BEGIN:DAYLIGHT
TZOFFSETFROM:-0500
TZOFFSETTO:-0400
TZNAME:EDT
DTSTART:20190310T070000
END:DAYLIGHT
BEGIN:STANDARD
TZOFFSETFROM:-0400
TZOFFSETTO:-0500
TZNAME:EST
DTSTART:20191103T060000
END:STANDARD
BEGIN:DAYLIGHT
TZOFFSETFROM:-0500
TZOFFSETTO:-0400
TZNAME:EDT
DTSTART:20200308T070000
END:DAYLIGHT
BEGIN:STANDARD
TZOFFSETFROM:-0400
TZOFFSETTO:-0500
TZNAME:EST
DTSTART:20201101T060000
END:STANDARD
BEGIN:DAYLIGHT
TZOFFSETFROM:-0500
TZOFFSETTO:-0400
TZNAME:EDT
DTSTART:20210314T070000
END:DAYLIGHT
BEGIN:STANDARD
TZOFFSETFROM:-0400
TZOFFSETTO:-0500
TZNAME:EST
DTSTART:20211107T060000
END:STANDARD
BEGIN:DAYLIGHT
TZOFFSETFROM:-0500
TZOFFSETTO:-0400
TZNAME:EDT
DTSTART:20220313T070000
END:DAYLIGHT
BEGIN:STANDARD
TZOFFSETFROM:-0400
TZOFFSETTO:-0500
TZNAME:EST
DTSTART:20221106T060000
END:STANDARD
BEGIN:DAYLIGHT
TZOFFSETFROM:-0500
TZOFFSETTO:-0400
TZNAME:EDT
DTSTART:20230312T070000
END:DAYLIGHT
BEGIN:STANDARD
TZOFFSETFROM:-0400
TZOFFSETTO:-0500
TZNAME:EST
DTSTART:20231105T060000
END:STANDARD
END:VTIMEZONE
BEGIN:VEVENT
DTSTART;TZID=America/Detroit:20230809T180000
DTEND;TZID=America/Detroit:20230809T210000
DTSTAMP:20260419T130001
CREATED:20230627T165553Z
LAST-MODIFIED:20230705T151518Z
UID:10009066-1691604000-1691614800@www.miedemaauctioneering.com
SUMMARY:Midwest Auctioneer Roundup Championship Bid Calling Contest
DESCRIPTION:Miedema Asset Management Group is pleased to be hosting\, in conjunction with the Michigan Auctioneers Association\, the annual Midwest Auctioneers Round Up Championship Bid calling contest! \nIt will be held at our Repocast auction facility in Wayland\, MI (3450 12th Street) on Weds.\, August 9 at 6PM. The public is welcome to attend. Auctioneers from throughout the U.S. will be competing to be crowned the champion of the Midwest Auctioneer’s Round Up. A Junior auctioneers contest and a kids auction will follow at 8PM.
URL:https://www.miedemaauctioneering.com/auction-calendar/midwest-auctioneer-roundup-championship-bid-calling-contest/
LOCATION:Miedema’s Auction Center (Repocast.com)\, 3450 12th Street\, Wayland\, MI\, 49348\, United States
CATEGORIES:Event
ATTACH;FMTTYPE=image/png:https://miedemaauctioneering.s3.amazonaws.com/wp-content/uploads/2023/06/27160309/Midwest-Auctioneers-Roundup-Thumbnail.png
ORGANIZER;CN="Jeremy%20Miedema%20-%20Auction%20Manager":MAILTO:jeremy@1800lastbid.com
GEO:42.669775;-85.663029
X-APPLE-STRUCTURED-LOCATION;VALUE=URI;X-ADDRESS=Miedema’s Auction Center (Repocast.com) 3450 12th Street Wayland MI 49348 United States;X-APPLE-RADIUS=500;X-TITLE=3450 12th Street:geo:-85.663029,42.669775
END:VEVENT
BEGIN:VEVENT
DTSTART;TZID=America/Detroit:20180828T190000
DTEND;TZID=America/Detroit:20180828T210000
DTSTAMP:20260419T130001
CREATED:20180807T204508Z
LAST-MODIFIED:20200210T203624Z
UID:10000429-1535482800-1535490000@www.miedemaauctioneering.com
SUMMARY:Hudsonville Fairgrounds Horse Pull
DESCRIPTION:Miedema Asset Management Group is pleased to be hosting\, in conjunction with the Michigan Auctioneers Association\, the annual Midwest Auctioneers Round Up Championship Bid calling contest! \nIt will be held at our Repocast auction facility in Wayland\, MI (3450 12th Street) on Weds.\, August 9 at 6PM. The public is welcome to attend. Auctioneers from throughout the U.S. will be competing to be crowned the champion of the Midwest Auctioneer’s Round Up. A Junior auctioneers contest and a kids auction will follow at 8PM.
URL:https://www.miedemaauctioneering.com/auction-calendar/hudsonville-fairgrounds-horse-pull/
LOCATION:Hudsonville Fairgrounds – 5235 40th Ave\, Hudsonville\, MI 49423\, 5235 40th Ave\, Hudsonville\, MI\, 49426\, United States
CATEGORIES:Event
ATTACH;FMTTYPE=image/jpeg:https://miedemaauctioneering.s3.amazonaws.com/wp-content/uploads/2018/08/08084415/IMG_2184.jpg
GEO:42.864918;-85.880852
X-APPLE-STRUCTURED-LOCATION;VALUE=URI;X-ADDRESS=Hudsonville Fairgrounds – 5235 40th Ave Hudsonville MI 49423 5235 40th Ave Hudsonville MI 49426 United States;X-APPLE-RADIUS=500;X-TITLE=5235 40th Ave:geo:-85.880852,42.864918
END:VEVENT
END:VCALENDAR